BEGIN:VCALENDAR
VERSION:2.0
PRODID:-//Volkssolidarität Uecker-Randow e. V. - ECPv6.15.20//NONSGML v1.0//EN
CALSCALE:GREGORIAN
METHOD:PUBLISH
X-ORIGINAL-URL:https://graffitireinigung24.de
X-WR-CALDESC:Veranstaltungen für Volkssolidarität Uecker-Randow e. V.
REFRESH-INTERVAL;VALUE=DURATION:PT1H
X-Robots-Tag:noindex
X-PUBLISHED-TTL:PT1H
BEGIN:VTIMEZONE
TZID:UTC
BEGIN:STANDARD
TZOFFSETFROM:+0000
TZOFFSETTO:+0000
TZNAME:UTC
DTSTART:20250101T000000
END:STANDARD
END:VTIMEZONE
BEGIN:VEVENT
DTSTART;TZID=UTC:20260520T140000
DTEND;TZID=UTC:20260520T160000
DTSTAMP:20260420T101146
CREATED:20260407T175039Z
LAST-MODIFIED:20260407T175039Z
UID:1501-1779285600-1779292800@graffitireinigung24.de
SUMMARY:Repaircafé
DESCRIPTION:Lieblingsstück oder Spielzeug kaputt? Wir reparieren gemeinsam mit Ihnen. \nAm 20.05.2026 ab 14:00 Uhr unterstützt Herr Schöffel Sie bei der Reparatur Ihrer liebgewonnenen Stücke in unserem Repaircafé. Melden sie sich gerne bei uns im Mehrgenerationenhaus unter 03976-255242.
URL:https://graffitireinigung24.de/event/repaircafe-2/
ATTACH;FMTTYPE=image/jpeg:https://graffitireinigung24.de/wp-content/uploads/2026/04/werkzeug.jpg
END:VEVENT
END:VCALENDAR